BEGIN:VCALENDAR
VERSION:2.0
PRODID:-//Jewish Federation of Greater Washington - ECPv6.15.20//NONSGML v1.0//EN
CALSCALE:GREGORIAN
METHOD:PUBLISH
X-WR-CALNAME:Jewish Federation of Greater Washington
X-ORIGINAL-URL:https://www.shalomdc.org
X-WR-CALDESC:Events for Jewish Federation of Greater Washington
REFRESH-INTERVAL;VALUE=DURATION:PT1H
X-Robots-Tag:noindex
X-PUBLISHED-TTL:PT1H
BEGIN:VTIMEZONE
TZID:America/New_York
BEGIN:DAYLIGHT
TZOFFSETFROM:-0500
TZOFFSETTO:-0400
TZNAME:EDT
DTSTART:20240310T070000
END:DAYLIGHT
BEGIN:STANDARD
TZOFFSETFROM:-0400
TZOFFSETTO:-0500
TZNAME:EST
DTSTART:20241103T060000
END:STANDARD
BEGIN:DAYLIGHT
TZOFFSETFROM:-0500
TZOFFSETTO:-0400
TZNAME:EDT
DTSTART:20250309T070000
END:DAYLIGHT
BEGIN:STANDARD
TZOFFSETFROM:-0400
TZOFFSETTO:-0500
TZNAME:EST
DTSTART:20251102T060000
END:STANDARD
BEGIN:DAYLIGHT
TZOFFSETFROM:-0500
TZOFFSETTO:-0400
TZNAME:EDT
DTSTART:20260308T070000
END:DAYLIGHT
BEGIN:STANDARD
TZOFFSETFROM:-0400
TZOFFSETTO:-0500
TZNAME:EST
DTSTART:20261101T060000
END:STANDARD
BEGIN:DAYLIGHT
TZOFFSETFROM:-0500
TZOFFSETTO:-0400
TZNAME:EDT
DTSTART:20270314T070000
END:DAYLIGHT
BEGIN:STANDARD
TZOFFSETFROM:-0400
TZOFFSETTO:-0500
TZNAME:EST
DTSTART:20271107T060000
END:STANDARD
END:VTIMEZONE
BEGIN:VEVENT
DTSTART;TZID=America/New_York:20260415T190000
DTEND;TZID=America/New_York:20260415T203000
DTSTAMP:20260420T041943
CREATED:20260413T182451Z
LAST-MODIFIED:20260413T182451Z
UID:10008342-1776279600-1776285000@www.shalomdc.org
SUMMARY:Beit Midrash with Rav Amelia: The Stolen Lulav - Ethics and Practical Concerns in the Talmud
DESCRIPTION:Congregation Etz Hayim’s Rav Amelia teaches and facilitates discuss on the third Wednesday of every month. This month’s topic is The Stolen Lulav: Ethics and Practical Concerns in the Talmud. Please contact office@etzhayim.net for connection information for this virtual class.
URL:https://www.shalomdc.org/event/beit-midrash-with-rav-amelia-the-stolen-lulav-ethics-and-practical-concerns-in-the-talmud/
LOCATION:Virtual\, Virtual\, Virtual
CATEGORIES:Community Calendar,Jewish Holidays, Rituals, and Traditions
ATTACH;FMTTYPE=image/png:https://www.shalomdc.org/wp-content/uploads/2026/04/Etz-Hayim-Congregation-Logo.png
ORGANIZER;CN="Congregation Etz Hayim":MAILTO:office@etzhayim.net
END:VEVENT
BEGIN:VEVENT
DTSTART;TZID=America/New_York:20260412T160000
DTEND;TZID=America/New_York:20260412T170000
DTSTAMP:20260420T041943
CREATED:20260326T202811Z
LAST-MODIFIED:20260326T202811Z
UID:10008323-1776009600-1776013200@www.shalomdc.org
SUMMARY:Lasagna Making For Homeless
DESCRIPTION:Lasagnas will be baked and donated to PathForward\, a local Arlington organization working to end homelessness. We will make the lasagnas in the Congregation Etz Hayim Kitchen and they will be delivered for Sunday dinner at the homeless shelter and families in need. Registration is required.\nIn partnership with The Jewish Federation of Greater Washington and the generous support of The Sara and Samuel J. Lessans Good Deeds Day Fund
URL:https://www.shalomdc.org/event/lasagna-making-for-homeless/
LOCATION:Congregation Etz Hayim\, 2920 Arlington Blvd.\, Arlington\, VA\, 22204\, United States
CATEGORIES:Community Calendar,Events & Gatherings,In Partnership
ATTACH;FMTTYPE=image/jpeg:https://www.shalomdc.org/wp-content/uploads/2026/03/Lasagna.jpg
ORGANIZER;CN="Congregation Etz Hayim":MAILTO:office@etzhayim.net
END:VEVENT
BEGIN:VEVENT
DTSTART;TZID=America/New_York:20260218T070000
DTEND;TZID=America/New_York:20260218T203000
DTSTAMP:20260420T041943
CREATED:20260125T234545Z
LAST-MODIFIED:20260125T234545Z
UID:10007926-1771398000-1771446600@www.shalomdc.org
SUMMARY:Beit Midrash with Rav Amelia: When to Say the Shema
DESCRIPTION:Congregation Etz Hayim’s Rav Amelia teaches and facilitates discussion on the third Wed of each month. February’s topic is When to Say the Shema: Argumentation in the Mishna. This class is virtual. Contact office@etzhayim.net for connection information.
URL:https://www.shalomdc.org/event/beit-midrash-with-rav-amelia-when-to-say-the-shema/
LOCATION:Virtual\, Virtual\, Virtual
CATEGORIES:Community Calendar
ATTACH;FMTTYPE=image/png:https://www.shalomdc.org/wp-content/uploads/2026/01/Etz-Hayim-Congregation-Logo-2.png
ORGANIZER;CN="Congregation Etz Hayim":MAILTO:office@etzhayim.net
END:VEVENT
BEGIN:VEVENT
DTSTART;TZID=America/New_York:20260214T100000
DTEND;TZID=America/New_York:20260214T130000
DTSTAMP:20260420T041943
CREATED:20260125T234324Z
LAST-MODIFIED:20260125T234324Z
UID:10007925-1771063200-1771074000@www.shalomdc.org
SUMMARY:Repro Shabbat
DESCRIPTION:Join us for Shabbat morning services from 10:00am to approximately 12:00pm\, followed by Lunch & Learn. Allison Korman\, the founder and executive director of the Red Tent Fund will present our Shabbat morning D’var Torah and will lead ‘lunch & learn’ during kiddush lunch.
URL:https://www.shalomdc.org/event/repro-shabbat-2/
LOCATION:Congregation Etz Hayim\, 2920 Arlington Blvd.\, Arlington\, VA\, 22204\, United States
CATEGORIES:Community Calendar
ATTACH;FMTTYPE=image/png:https://www.shalomdc.org/wp-content/uploads/2026/01/Etz-Hayim-Congregation-Logo-1.png
ORGANIZER;CN="Congregation Etz Hayim":MAILTO:office@etzhayim.net
END:VEVENT
BEGIN:VEVENT
DTSTART;TZID=America/New_York:20251119T190000
DTEND;TZID=America/New_York:20251119T203000
DTSTAMP:20260420T041943
CREATED:20251107T160513Z
LAST-MODIFIED:20251107T160513Z
UID:10006757-1763578800-1763584200@www.shalomdc.org
SUMMARY:Beit Midrash with Rav Amelia: Deciphering the Jewish Wedding
DESCRIPTION:From signing the ketubah to stomping on the glass\, Jewish wedding traditions are rich\, varied\, and full of meaning. Congregation Etz Hayim’s Rav Amelia will provide history and interpretation\, with plenty of time for Q&A. \nPlease contact office@etzhayim.net for connection information for this virtual event. \nAll are welcome.
URL:https://www.shalomdc.org/event/beit-midrash-with-rav-amelia-deciphering-the-jewish-wedding/
LOCATION:Virtual\, Virtual\, Virtual
CATEGORIES:Community Calendar,Jewish Holidays, Rituals, and Traditions
ATTACH;FMTTYPE=image/png:https://www.shalomdc.org/wp-content/uploads/2025/11/Etz-Hayim-Congregation-Logo.png
ORGANIZER;CN="Congregation Etz Hayim":MAILTO:office@etzhayim.net
END:VEVENT
END:VCALENDAR