BEGIN:VCALENDAR
VERSION:2.0
PRODID:-//Jewish Federation of Greater Washington - ECPv6.15.20//NONSGML v1.0//EN
CALSCALE:GREGORIAN
METHOD:PUBLISH
X-ORIGINAL-URL:https://www.shalomdc.org
X-WR-CALDESC:Events for Jewish Federation of Greater Washington
REFRESH-INTERVAL;VALUE=DURATION:PT1H
X-Robots-Tag:noindex
X-PUBLISHED-TTL:PT1H
BEGIN:VTIMEZONE
TZID:America/New_York
BEGIN:DAYLIGHT
TZOFFSETFROM:-0500
TZOFFSETTO:-0400
TZNAME:EDT
DTSTART:20250309T070000
END:DAYLIGHT
BEGIN:STANDARD
TZOFFSETFROM:-0400
TZOFFSETTO:-0500
TZNAME:EST
DTSTART:20251102T060000
END:STANDARD
BEGIN:DAYLIGHT
TZOFFSETFROM:-0500
TZOFFSETTO:-0400
TZNAME:EDT
DTSTART:20260308T070000
END:DAYLIGHT
BEGIN:STANDARD
TZOFFSETFROM:-0400
TZOFFSETTO:-0500
TZNAME:EST
DTSTART:20261101T060000
END:STANDARD
BEGIN:DAYLIGHT
TZOFFSETFROM:-0500
TZOFFSETTO:-0400
TZNAME:EDT
DTSTART:20270314T070000
END:DAYLIGHT
BEGIN:STANDARD
TZOFFSETFROM:-0400
TZOFFSETTO:-0500
TZNAME:EST
DTSTART:20271107T060000
END:STANDARD
END:VTIMEZONE
BEGIN:VEVENT
DTSTART;TZID=America/New_York:20260612T183000
DTEND;TZID=America/New_York:20260612T210000
DTSTAMP:20260420T072738
CREATED:20260227T200501Z
LAST-MODIFIED:20260227T200501Z
UID:10008181-1781289000-1781298000@www.shalomdc.org
SUMMARY:Pride Shabbat@WHC featuring Metro Minyan
DESCRIPTION:June is Pride Month\, and our LGBTQ+ Group is celebrating this evening! We modified the schedule to help accommodate our young professionals\, so Shabbat activities start a little later. \nAt 6:30 pm and again after the service: Have something to eat (to tide you over or as your dinner)\, a drink (we offer a full bar\, plus non-alcoholic options)\, and connect with your community. Kids are always welcome\, and they’ll be able to eat before (and after) the service\, play Connect 4\, or create at a coloring table. \n7:00 pm – Our Shabbat service begins. \nAfter the service – Stay for dessert\, or more food and drinks! \nFor our Young Professionals in 2239 (or just those aged 22-39)\, there is an optional dinner following the service. \nSpecial thanks to our musicians who add so much to the service. We wouldn’t have them without the support of the Irene & Abe Pollin Music Program Initiative.
URL:https://www.shalomdc.org/event/pride-shabbatwhc-featuring-metro-minyan/
LOCATION:Washington Hebrew Congregation\, 3935 Macomb St\, NW\, Washington\, DC\, 20016\, United States
CATEGORIES:Community Calendar,Events & Gatherings,Jewish Holidays, Rituals, and Traditions
ATTACH;FMTTYPE=image/png:https://www.shalomdc.org/wp-content/uploads/2026/02/PRIDE-SHABBAT-v3-570x425-1.png
ORGANIZER;CN="Washington Hebrew Congregation":MAILTO:communications@whctemple.org
END:VEVENT
END:VCALENDAR